BEGIN:VCALENDAR
VERSION:2.0
PRODID:-// Barberton Community Hub//EN
BEGIN:VEVENT
UID:69e9d36461cba
DTSTAMP:20260423T040804
DTSTART:20260415T110000
DTEND:20260415T210000
SUMMARY:$11.25 - Classic 4 pc Chicken Dinner
DESCRIPTION:Classic 4 pc Chicken Dinner - $11.25. Available all day. Dine-In or Carry-Out.
LOCATION:Hopocan Gardens - 4396 W Hopocan Ave Ext, Barberton, OH 44203
END:VEVENT
END:VCALENDAR